BEGIN:VCALENDAR
PRODID:-//github.com/rianjs/ical.net//NONSGML ical.net 4.0//EN
VERSION:2.0
BEGIN:VEVENT
DESCRIPTION:FAUmøte
DTEND:20250226T210000
DTSTAMP:20260423T222445Z
DTSTART:20250226T190000
SEQUENCE:0
SUMMARY:FAUmøte
UID:a86ff04e-2968-4388-a742-960222673cf4
END:VEVENT
END:VCALENDAR
